BEGIN:VCALENDAR
VERSION:2.0
PRODID:-//https://www.havasurealtors.rapiws.com//NONSGML kigkonsult.se iCalcreator 2.41.71//
CALSCALE:GREGORIAN
METHOD:PUBLISH
UID:32353439-3865-4561-a332-663263346133
X-WR-CALNAME:JCal Pro Calendar
X-WR-CALDESC:Your online events calendar
X-WR-TIMEZONE:America/Phoenix
BEGIN:VTIMEZONE
TZID:America/Phoenix
BEGIN:STANDARD
TZNAME:MST
DTSTART:20240720T215644
TZOFFSETFROM:+0000
TZOFFSETTO:-0700
END:STANDARD
END:VTIMEZONE
BEGIN:VEVENT
UID:20230729T070000MST-6342sEmpVR@https://lhsuiws.rapams.com/
DTSTAMP:20260421T215644Z
CATEGORIES:Rentals
DTSTART;TZID=America/Phoenix:20230729T000000
DTEND;TZID=America/Phoenix:20230729T235959
SUMMARY:Rental (Scott)
URL:https://www.havasurealtors.rapiws.com/calendar-menu/258-rentals/3750-re
 ntal-scott.html
END:VEVENT
END:VCALENDAR
