BEGIN:VCALENDAR
VERSION:2.0
PRODID:-//https://www.havasurealtors.rapiws.com//NONSGML kigkonsult.se iCalcreator 2.41.71//
CALSCALE:GREGORIAN
METHOD:PUBLISH
UID:36663636-6266-4436-b937-346534336135
X-WR-CALNAME:JCal Pro Calendar
X-WR-CALDESC:Your online events calendar
X-WR-TIMEZONE:America/Phoenix
BEGIN:VTIMEZONE
TZID:America/Phoenix
BEGIN:STANDARD
TZNAME:MST
DTSTART:20240720T084026
TZOFFSETFROM:+0000
TZOFFSETTO:-0700
END:STANDARD
END:VTIMEZONE
BEGIN:VEVENT
UID:20230118T080000MST-3075adsrjz@https://lhsuiws.rapams.com/
DTSTAMP:20260421T084026Z
CATEGORIES:MLS Tour Meetings
DTSTART;TZID=America/Phoenix:20231018T081500
DTEND;TZID=America/Phoenix:20231018T091500
SUMMARY:MLS Tour - Central & South Area
URL:https://www.havasurealtors.rapiws.com/full-calendar-calendar-menu/189-m
 eetings-calendar-category/193-mls-tour-meetings-calendar-category/3746-mls
 -tour-central-area.html
END:VEVENT
END:VCALENDAR
