BEGIN:VCALENDAR
VERSION:2.0
PRODID:-//https://www.havasurealtors.rapiws.com//NONSGML kigkonsult.se iCalcreator 2.41.71//
CALSCALE:GREGORIAN
METHOD:PUBLISH
UID:64326166-3839-4733-a261-626631393930
X-WR-CALNAME:JCal Pro Calendar
X-WR-CALDESC:Your online events calendar
X-WR-TIMEZONE:America/Phoenix
BEGIN:VTIMEZONE
TZID:America/Phoenix
BEGIN:STANDARD
TZNAME:MST
DTSTART:20240719T050208
TZOFFSETFROM:+0000
TZOFFSETTO:-0700
END:STANDARD
END:VTIMEZONE
BEGIN:VEVENT
UID:20230721T093000UTC-3399VU2bWc@https://havasurealtors.com/
DTSTAMP:20260420T050208Z
CATEGORIES:Private Meetings
DTSTART;TZID=America/Phoenix:20240119T083000
DTEND;TZID=America/Phoenix:20240119T103000
RRULE:FREQ=MONTHLY;COUNT=4;INTERVAL=2;BYDAY=FR;BYSETPOS=3
SUMMARY:General Membership Meeting - BREAKFAST
URL:https://www.havasurealtors.rapiws.com/this-week-calendar-menu/189-meeti
 ngs-calendar-category/191-private-meetings-calendar-category/3854-general-
 membership-meeting-breakfast-2.html
END:VEVENT
END:VCALENDAR
